BEGIN:VCALENDAR
VERSION:2.0
PRODID:-//eventon.com NONSGML v1.0//EN
CALSCALE:GREGORIAN
METHOD:PUBLISH
BEGIN:VEVENT
UID:69e5f98bdba13
DTSTAMP:20260420T100147Z
DTSTART:20190310T120000Z
DTEND:20190310T010000Z
LOCATION:Woodridge Middle School
SUMMARY:Shamrock 15K & 5K - A WRR Timed Event
DESCRIPTION:Shamrock 15K & 5K - A WRR Timed Event\nhttps://www.westernreser
 veracing.com/events/shamrock-15k-5k-a-wrr-timed-event/
URL:https://www.westernreserveracing.com/events/shamrock-15k-5k-a-wrr-timed-event/
END:VEVENT
END:VCALENDAR