BEGIN:VCALENDAR
VERSION:2.0
PRODID:-//eventon.com NONSGML v1.0//EN
CALSCALE:GREGORIAN
METHOD:PUBLISH
BEGIN:VEVENT
UID:69e9222abc459
DTSTAMP:20260422T193154Z
DTSTART:20190602T083000Z
DTEND:20190602T130000Z
LOCATION:
SUMMARY:Live Well\,  Do Good 5k & 1 Mile - A WRR Timed Event
DESCRIPTION:Live Well\,  Do Good 5k & 1 Mile - A WRR Timed Event\nhttps://w
 ww.westernreserveracing.com/events/live-well-do-good-5k-1-mile-a-wrr-timed-
 event/
URL:https://www.westernreserveracing.com/events/live-well-do-good-5k-1-mile-a-wrr-timed-event/
END:VEVENT
END:VCALENDAR