BEGIN:VCALENDAR
VERSION:2.0
PRODID:-//eventon.com NONSGML v1.0//EN
CALSCALE:GREGORIAN
METHOD:PUBLISH
BEGIN:VEVENT
UID:69e91d7ceb4a5
DTSTAMP:20260422T191156Z
DTSTART:20260627T120000Z
DTEND:20260628T035000Z
LOCATION:
SUMMARY:Run to Restore 5k - A WRR Timed Event
DESCRIPTION:Run to Restore 5k - A WRR Timed Event\nhttps://www.westernreser
 veracing.com/events/run-to-restore-5k-a-wrr-timed-event/
URL:https://www.westernreserveracing.com/events/run-to-restore-5k-a-wrr-timed-event/
END:VEVENT
END:VCALENDAR