BEGIN:VCALENDAR
VERSION:2.0
PRODID:-//eventon.com NONSGML v1.0//EN
CALSCALE:GREGORIAN
METHOD:PUBLISH
BEGIN:VEVENT
UID:69ec9d1140c82
DTSTAMP:20260425T105305Z
DTSTART:20150322T100000Z
DTEND:20150322T010000Z
LOCATION:
SUMMARY:Spring TRAINing  5 & 10 Miler
DESCRIPTION:Sunday\,  March 22\,  10:10 a.m.\,  Howe Meadow Register NowVol
 unteer Western Reserve Racing and The Conservancy for Cuyahoga Valley Natio
 nal Park invite you to BEAT THE TRAIN! at the 2015 Great Spring TRAINing Ra
 ce. Show your support for the Conservancy and join us for this 5 or 10 mile
  race against[..]\nhttps://www.westernreserveracing.com/events/spring-train
 ing-5-10-miler/
URL:https://www.westernreserveracing.com/events/spring-training-5-10-miler/
END:VEVENT
END:VCALENDAR