BEGIN:VCALENDAR
VERSION:2.0
PRODID:-//eventon.com NONSGML v1.0//EN
CALSCALE:GREGORIAN
METHOD:PUBLISH
BEGIN:VEVENT
UID:69e4e409afb65
DTSTAMP:20260419T141745Z
DTSTART:20261024T130000Z
DTEND:20261025T035000Z
LOCATION:
SUMMARY:Chippewa Creek Challenge Half Marathon
DESCRIPTION:Chippewa Creek Challenge Half Marathon\nhttps://www.westernrese
 rveracing.com/events/chippewa-creek-challenge/
URL:https://www.westernreserveracing.com/events/chippewa-creek-challenge/
END:VEVENT
END:VCALENDAR