BEGIN:VCALENDAR
VERSION:2.0
PRODID:-//eventon.com NONSGML v1.0//EN
CALSCALE:GREGORIAN
METHOD:PUBLISH
BEGIN:VEVENT
UID:69e90ac4a9d94
DTSTAMP:20260422T175204Z
DTSTART:20260620T120000Z
DTEND:20260621T035000Z
LOCATION:
SUMMARY:Boys & Girls Club of CLE - Race for Kids 5k & 1M - A WRR Timed Event
DESCRIPTION:Boys & Girls Club of CLE - Race for Kids 5k & 1M - A WRR Timed 
 Event\nhttps://www.westernreserveracing.com/events/race-kids-5k-1m-wrr-time
 d-event/
URL:https://www.westernreserveracing.com/events/race-kids-5k-1m-wrr-timed-event/
END:VEVENT
END:VCALENDAR